BEGIN:VCALENDAR
VERSION:2.0
PRODID:-//浄土真宗本願寺派 本願寺小樽別院 - ECPv6.13.2.1//NONSGML v1.0//EN
CALSCALE:GREGORIAN
METHOD:PUBLISH
X-ORIGINAL-URL:http://www.otaru-betsuin.com
X-WR-CALDESC:浄土真宗本願寺派 本願寺小樽別院 のイベント
REFRESH-INTERVAL;VALUE=DURATION:PT1H
X-Robots-Tag:noindex
X-PUBLISHED-TTL:PT1H
BEGIN:VTIMEZONE
TZID:Asia/Tokyo
BEGIN:STANDARD
TZOFFSETFROM:+0900
TZOFFSETTO:+0900
TZNAME:JST
DTSTART:20250101T000000
END:STANDARD
END:VTIMEZONE
BEGIN:VEVENT
DTSTART;TZID=Asia/Tokyo:20251013T133000
DTEND;TZID=Asia/Tokyo:20251013T153000
DTSTAMP:20260423T071239
CREATED:20251008T101927Z
LAST-MODIFIED:20251008T101927Z
UID:8768-1760362200-1760369400@www.otaru-betsuin.com
SUMMARY:報恩講
DESCRIPTION:【逮夜】13：30～　本堂（大師影供作法）\n引き続き～御伝鈔上巻拝読～布教 \n【講師】奈良教区吉野北組浄迎寺　花岡 尚樹 師
URL:http://www.otaru-betsuin.com/calendar_eventinfo/%e5%a0%b1%e6%81%a9%e8%ac%9b/
LOCATION:本堂
CATEGORIES:法要
END:VEVENT
BEGIN:VEVENT
DTSTART;TZID=Asia/Tokyo:20251014T063000
DTEND;TZID=Asia/Tokyo:20251014T170000
DTSTAMP:20260423T071239
CREATED:20251008T102039Z
LAST-MODIFIED:20251008T102039Z
UID:8770-1760423400-1760461200@www.otaru-betsuin.com
SUMMARY:報恩講
DESCRIPTION:【講師】奈良教区吉野北組浄迎寺　花岡 尚樹 師 \n【晨朝】 6：30～　本堂（正信偈行譜　五十六億）～布教～\n【日中】10：00～ 本堂（正信念仏偈作法 第二種）～布教～\n【逮夜】13：30～　本堂（大師影供作法）\n引き続き～御伝鈔下巻拝読～布教\n【初夜】逮夜引き続き　日没礼讃～祖徳讃仰　留萌組西暁寺 藤 法順 師～
URL:http://www.otaru-betsuin.com/calendar_eventinfo/%e5%a0%b1%e6%81%a9%e8%ac%9b-2/
LOCATION:本堂
CATEGORIES:法要
END:VEVENT
BEGIN:VEVENT
DTSTART;TZID=Asia/Tokyo:20251015T063000
DTEND;TZID=Asia/Tokyo:20251015T170000
DTSTAMP:20260423T071239
CREATED:20251008T102152Z
LAST-MODIFIED:20251008T102152Z
UID:8772-1760509800-1760547600@www.otaru-betsuin.com
SUMMARY:報恩講
DESCRIPTION:【講師】奈良教区吉野北組浄迎寺　花岡 尚樹 師 \n【晨　朝】 6：30～　本堂（正信偈行譜　尊者阿難）～布教～\n【日　中】10：00～ 本堂（奉讃大師作法 第一種）～布教～\n【大逮夜】13：30～　本堂（五會念仏作法）\n引き続き～御俗姓拝読～布教\n【初　夜】逮夜引き続き　初夜礼讃～祖徳讃仰　後志組明善寺 　鹿谷 賢純 師～
URL:http://www.otaru-betsuin.com/calendar_eventinfo/%e5%a0%b1%e6%81%a9%e8%ac%9b-3/
CATEGORIES:法要
END:VEVENT
BEGIN:VEVENT
DTSTART;TZID=Asia/Tokyo:20251016T063000
DTEND;TZID=Asia/Tokyo:20251016T120000
DTSTAMP:20260423T071239
CREATED:20251008T102422Z
LAST-MODIFIED:20251008T102422Z
UID:8774-1760596200-1760616000@www.otaru-betsuin.com
SUMMARY:報恩講
DESCRIPTION:【講師】奈良教区吉野北組浄迎寺　花岡 尚樹 師 \n【晨　朝】 6：30～　本堂（正信偈行譜　彌陀成仏）～布教～\n9：00～ ご長寿を祝う記念法要\n【満日中】10：00～ 本堂（宗祖讃仰作法 ）～布教～ \n 
URL:http://www.otaru-betsuin.com/calendar_eventinfo/%e5%a0%b1%e6%81%a9%e8%ac%9b-4/
LOCATION:本堂
CATEGORIES:法要
END:VEVENT
END:VCALENDAR