BEGIN:VCALENDAR
VERSION:2.0
PRODID:-//浄土真宗本願寺派 本願寺小樽別院 - ECPv6.13.2.1//NONSGML v1.0//EN
CALSCALE:GREGORIAN
METHOD:PUBLISH
X-WR-CALNAME:浄土真宗本願寺派 本願寺小樽別院
X-ORIGINAL-URL:http://www.otaru-betsuin.com
X-WR-CALDESC:浄土真宗本願寺派 本願寺小樽別院 のイベント
REFRESH-INTERVAL;VALUE=DURATION:PT1H
X-Robots-Tag:noindex
X-PUBLISHED-TTL:PT1H
BEGIN:VTIMEZONE
TZID:Asia/Tokyo
BEGIN:STANDARD
TZOFFSETFROM:+0900
TZOFFSETTO:+0900
TZNAME:JST
DTSTART:20250101T000000
END:STANDARD
END:VTIMEZONE
BEGIN:VEVENT
DTSTART;TZID=Asia/Tokyo:20250710T120000
DTEND;TZID=Asia/Tokyo:20250710T130000
DTSTAMP:20260423T223912
CREATED:20250702T081015Z
LAST-MODIFIED:20250702T081015Z
UID:8609-1752148800-1752152400@www.otaru-betsuin.com
SUMMARY:樹心会・唯信講　例会
DESCRIPTION:7月10日(木)　 \n  \n11:45　勤行：正信偈 \n12:15　法話 \n山陰教区　西善寺　榊原 慎 師 \n 
URL:http://www.otaru-betsuin.com/calendar_eventinfo/%e6%a8%b9%e5%bf%83%e4%bc%9a%e3%83%bb%e5%94%af%e4%bf%a1%e8%ac%9b%e3%80%80%e4%be%8b%e4%bc%9a/
LOCATION:奥沢説教所
CATEGORIES:樹心会唯信講
END:VEVENT
END:VCALENDAR